BEGIN:VCALENDAR
VERSION:2.0
PRODID:-//demosphere.net//NONSGML kigkonsult.se iCalcreator 2.22.1//
METHOD:REQUEST
X-WR-TIMEZONE:Europe/Athens
BEGIN:VEVENT
UID:https://www.kinimatorama.net/event/189766
DTSTAMP:20260423T153000Z
DESCRIPTION:περισσότερες πληροφορίες: https://www.kinimatorama.net/event/18
 9766 
DTSTART:20260423T153000Z
DTEND:20260423T163000Z
GEO:+37.988143;+23.753997
LOCATION:Αθήνα\, \nΚοινωνικό Κέντρο Κοινότητας Κατειλημμένων Προσφυγικών \n
 Λεωφόρος Αλεξάνδρας 165 και Δέγλερη \n(250μ. από σταθμό Μετρό ΑΜΠΕΛΟΚΗΠΟΙ)
SUMMARY:8η ανοιχτή συνέλευση αλληλεγγύης στους/στις καταληψίες της Κοινότητ
 ας Κουκακίου
URL:https://www.kinimatorama.net/event/189766
END:VEVENT
END:VCALENDAR
