BEGIN:VCALENDAR
VERSION:2.0
PRODID:-//demosphere.net//NONSGML kigkonsult.se iCalcreator 2.22.1//
METHOD:REQUEST
X-WR-TIMEZONE:Europe/Athens
BEGIN:VEVENT
UID:https://www.kinimatorama.net/event/189767
DTSTAMP:20260423T160000Z
DESCRIPTION:περισσότερες πληροφορίες: https://www.kinimatorama.net/event/18
 9767 
DTSTART:20260423T160000Z
DTEND:20260423T170000Z
GEO:+37.989348;+23.77288
LOCATION:Αθήνα\, \nΥπουργείο Δικαιοσύνης \nΜεσογείων 96 \nλεωφορεία Α5\,Β5\
 ,046 \n10' περπάτημα από σταθμό Μετρό ΚΑΤΕΧΑΚΗ
SUMMARY:Συγκέντρωση Αλληλεγγύης στα διωκόμενα συντρόφια για την υπόθεση των
  Αμπελοκήπων
URL:https://www.kinimatorama.net/event/189767
END:VEVENT
END:VCALENDAR
