BEGIN:VCALENDAR
VERSION:2.0
PRODID:-//demosphere.net//NONSGML kigkonsult.se iCalcreator 2.22.1//
METHOD:REQUEST
X-WR-TIMEZONE:Europe/Athens
BEGIN:VEVENT
UID:https://www.kinimatorama.net/event/189768
DTSTAMP:20260425T160000Z
DESCRIPTION:περισσότερες πληροφορίες: https://www.kinimatorama.net/event/18
 9768 
DTSTART:20260425T160000Z
DTEND:20260425T170000Z
GEO:+37.988017;+23.754557
LOCATION:Αθήνα\, \nκιόσκι Κατειλημμένων Προσφυγικών \nΛ. Αλεξάνδρας & Αριστ
 οτέλους Κουζή \nKioski of Prosfygika\, Kouzi & Vegoritidos\, \n(πλησίον στ
 αθμού Μετρό ΑΜΠΕΛΟΚΗΠΟΙ)
SUMMARY:Ανοιχτή συζήτηση: Πόσο απέχει η Ζούγκλα Λακαντόνα από τα Προσφυγικά
  της Αλεξάνδρας\;
URL:https://www.kinimatorama.net/event/189768
END:VEVENT
END:VCALENDAR
