BEGIN:VCALENDAR
VERSION:2.0
PRODID:-//demosphere.net//NONSGML kigkonsult.se iCalcreator 2.22.1//
METHOD:REQUEST
X-WR-TIMEZONE:Europe/Athens
BEGIN:VEVENT
UID:https://www.kinimatorama.net/event/189772
DTSTAMP:20260425T120000Z
DESCRIPTION:περισσότερες πληροφορίες: https://www.kinimatorama.net/event/18
 9772 
DTSTART:20260425T120000Z
DTEND:20260425T130000Z
GEO:+38.039497;+23.688844
LOCATION:Πετρούπολη\, \nΠλατεία Ηρώ \nΛεωφορεία 700\,Α11\,Β11 (στάση ΔΗΜΑΡΧ
 ΕΙΟ)
SUMMARY:✨️Antifa Fest Πετρούπολης✨️
URL:https://www.kinimatorama.net/event/189772
END:VEVENT
END:VCALENDAR
