BEGIN:VCALENDAR
VERSION:2.0
PRODID:-//demosphere.net//NONSGML kigkonsult.se iCalcreator 2.22.1//
METHOD:REQUEST
X-WR-TIMEZONE:Europe/Athens
BEGIN:VEVENT
UID:https://www.kinimatorama.net/event/189774
DTSTAMP:20260429T163000Z
DESCRIPTION:περισσότερες πληροφορίες: https://www.kinimatorama.net/event/18
 9774 
DTSTART:20260429T163000Z
DTEND:20260429T173000Z
GEO:+38.003144;+23.730906
LOCATION:Αθήνα\, \nStudio new star art cinema \nΣπάρτης και Σταυροπούλου 33
  \n(πλησίον Πλατείας Αμερικής)
SUMMARY:Αθηναϊκή πρεμιέρα του ντοκιμαντέρ «Θέλω να είμαι νικητής / I want t
 o be a winner»
URL:https://www.kinimatorama.net/event/189774
END:VEVENT
END:VCALENDAR
