BEGIN:VCALENDAR
VERSION:2.0
PRODID:-//demosphere.net//NONSGML kigkonsult.se iCalcreator 2.22.1//
METHOD:REQUEST
X-WR-TIMEZONE:Europe/Athens
BEGIN:VEVENT
UID:https://www.kinimatorama.net/event/189776
DTSTAMP:20260425T090000Z
DESCRIPTION:περισσότερες πληροφορίες: https://www.kinimatorama.net/event/18
 9776 
DTSTART:20260425T090000Z
DTEND:20260425T100000Z
GEO:+39.361154;+21.920711
LOCATION:Καρδίτσα\, \nΚοινωνικός Χώρος Αλληλεγγύης & Αγώνα Καρδίτσας \nΜ.Αλ
 εξάνδρου 44
SUMMARY:Αναχώρηση για την πορεία για τη Βιολάντα
URL:https://www.kinimatorama.net/event/189776
END:VEVENT
END:VCALENDAR
