BEGIN:VCALENDAR
VERSION:2.0
PRODID:-//demosphere.net//NONSGML kigkonsult.se iCalcreator 2.22.1//
METHOD:REQUEST
X-WR-TIMEZONE:Europe/Athens
BEGIN:VEVENT
UID:https://www.kinimatorama.net/event/189777
DTSTAMP:20260422T180000Z
DESCRIPTION:περισσότερες πληροφορίες: https://www.kinimatorama.net/event/18
 9777 
DTSTART:20260422T180000Z
DTEND:20260422T190000Z
GEO:+39.636084;+22.414415
LOCATION:Λάρισα\, \nΠερραιβού 3
SUMMARY:Διαχειριστική συνέλευση του χώρου 📌Περραιβού 3
URL:https://www.kinimatorama.net/event/189777
END:VEVENT
END:VCALENDAR
