BEGIN:VCALENDAR
VERSION:2.0
PRODID:-//demosphere.net//NONSGML kigkonsult.se iCalcreator 2.22.1//
METHOD:REQUEST
X-WR-TIMEZONE:Europe/Athens
BEGIN:VEVENT
UID:https://www.kinimatorama.net/event/189778
DTSTAMP:20260423T170000Z
DESCRIPTION:περισσότερες πληροφορίες: https://www.kinimatorama.net/event/18
 9778 
DTSTART:20260423T170000Z
DTEND:20260423T180000Z
GEO:+41.13872;+24.8857
LOCATION:Ξάνθη\, \nΡωγμή \nΜ. Βόγδου 20\, 4ος όροφος \n(έναντι δικαστηρίων)
SUMMARY:Προβολή του ντοκιμαντέρ της Αλίντας Δημητρίου 'Τα κορίτσια της βροχ
 ής'
URL:https://www.kinimatorama.net/event/189778
END:VEVENT
END:VCALENDAR
