BEGIN:VCALENDAR
VERSION:2.0
PRODID:-//demosphere.net//NONSGML kigkonsult.se iCalcreator 2.22.1//
METHOD:REQUEST
X-WR-TIMEZONE:Europe/Athens
BEGIN:VEVENT
UID:https://www.kinimatorama.net/event/189779
DTSTAMP:20260423T173000Z
DESCRIPTION:περισσότερες πληροφορίες: https://www.kinimatorama.net/event/18
 9779 
DTSTART:20260423T173000Z
DTEND:20260423T183000Z
GEO:+37.900841;+23.756077
LOCATION:Αργυρούπολη\, \nΛέσχη Εργαζομένων & Νεολαίας Ελληνικού-Αργυρούπολη
 ς \nΛεωφόρος Κύπρου 172 \n10΄περπάτημα από Μετρό Αργυρούπολης \nΒ1\,164\,1
 65: στάση 7η ΑΡΓΥΡΟΥΠΟΛΗΣ \n201: στάση ΜΙΚΡΑΣ ΑΣΙΑΣ
SUMMARY:Λαϊκορεμπέτικος καφενες
URL:https://www.kinimatorama.net/event/189779
END:VEVENT
END:VCALENDAR
