BEGIN:VCALENDAR
VERSION:2.0
PRODID:-//demosphere.net//NONSGML kigkonsult.se iCalcreator 2.22.1//
METHOD:REQUEST
X-WR-TIMEZONE:Europe/Athens
BEGIN:VEVENT
UID:https://www.kinimatorama.net/event/189781
DTSTAMP:20260426T090000Z
DESCRIPTION:περισσότερες πληροφορίες: https://www.kinimatorama.net/event/18
 9781 
DTSTART:20260426T090000Z
DTEND:20260426T100000Z
GEO:+38.012663;+23.732995
LOCATION:Αθήνα\, \nΚατάληψη Πάτμου & Καραβία \nΕυγενίου Καραβία 23\, \nΚάτω
  Πατήσια \n(5' από ΗΣΑΠ Κάτω Πατήσια\, \nΤρόλεϊ 3\,5\,11\,14 & λεωφορεία Α
 8\,608: \nστάση ΑΓΙΟΣ ΛΟΥΚΑΣ)
SUMMARY:Άνοιγμα κατάληψης\, κήπου και παιδικής χαράς
URL:https://www.kinimatorama.net/event/189781
END:VEVENT
END:VCALENDAR
