BEGIN:VCALENDAR
VERSION:2.0
PRODID:-//demosphere.net//NONSGML kigkonsult.se iCalcreator 2.22.1//
METHOD:REQUEST
X-WR-TIMEZONE:Europe/Athens
BEGIN:VEVENT
UID:https://www.kinimatorama.net/event/189782
DTSTAMP:20260425T140000Z
DESCRIPTION:περισσότερες πληροφορίες: https://www.kinimatorama.net/event/18
 9782 
DTSTART:20260425T140000Z
DTEND:20260425T150000Z
GEO:+40.638397;+22.946565
LOCATION:Θεσσαλονίκη\, \nΠάρκο Εργατικού Κέντρου Θεσσαλονίκης \nΑριστοτέλου
 ς με Ολύμπου
SUMMARY:Πολιτική εκδήλωση : To καταληψιακό κίνημα στην ελλάδα
URL:https://www.kinimatorama.net/event/189782
END:VEVENT
END:VCALENDAR
