BEGIN:VCALENDAR
VERSION:2.0
PRODID:-//demosphere.net//NONSGML kigkonsult.se iCalcreator 2.22.1//
METHOD:REQUEST
X-WR-TIMEZONE:Europe/Athens
BEGIN:VEVENT
UID:https://www.kinimatorama.net/event/189783
DTSTAMP:20260501T080000Z
DESCRIPTION:περισσότερες πληροφορίες: https://www.kinimatorama.net/event/18
 9783 
DTSTART:20260501T080000Z
DTEND:20260501T090000Z
LOCATION:Αθήνα\, \nΧαυτεία
SUMMARY:Αναρχική Πρωτομαγιά | Αναρχική Πολιτική Οργάνωση Ο.Σ.
URL:https://www.kinimatorama.net/event/189783
END:VEVENT
END:VCALENDAR
