BEGIN:VCALENDAR
VERSION:2.0
PRODID:-//demosphere.net//NONSGML kigkonsult.se iCalcreator 2.22.1//
METHOD:REQUEST
X-WR-TIMEZONE:Europe/Athens
BEGIN:VEVENT
UID:https://www.kinimatorama.net/event/189784
DTSTAMP:20260424T160000Z
DESCRIPTION:περισσότερες πληροφορίες: https://www.kinimatorama.net/event/18
 9784 
DTSTART:20260424T160000Z
DTEND:20260424T170000Z
GEO:+37.9895;+23.737333
LOCATION:Αθήνα\, \nΕκλάμψεις \nχώρος βιβλίου στα Εξάρχεια \nΙουστινιανού 13
SUMMARY:Παρουσίαση έκδοσης : 'Απαντα του Γιώργου Κοκκινίδη
URL:https://www.kinimatorama.net/event/189784
END:VEVENT
END:VCALENDAR
