BEGIN:VCALENDAR
VERSION:2.0
PRODID:-//demosphere.net//NONSGML kigkonsult.se iCalcreator 2.22.1//
METHOD:REQUEST
X-WR-TIMEZONE:Europe/Athens
BEGIN:VEVENT
UID:https://www.kinimatorama.net/event/189786
DTSTAMP:20260501T073000Z
DESCRIPTION:περισσότερες πληροφορίες: https://www.kinimatorama.net/event/18
 9786 
DTSTART:20260501T073000Z
DTEND:20260501T083000Z
GEO:+40.632094;+22.951837
LOCATION:Θεσσαλονίκη\, \nΚαμάρα \nΕγνατία 121
SUMMARY:1η Μάη: Ανεξάρτητη Ταξική Συγκέντρωση
URL:https://www.kinimatorama.net/event/189786
END:VEVENT
END:VCALENDAR
