BEGIN:VCALENDAR
VERSION:2.0
PRODID:-//demosphere.net//NONSGML kigkonsult.se iCalcreator 2.22.1//
METHOD:REQUEST
X-WR-TIMEZONE:Europe/Athens
BEGIN:VEVENT
UID:https://www.kinimatorama.net/event/189791
DTSTAMP:20260501T073000Z
DESCRIPTION:περισσότερες πληροφορίες: https://www.kinimatorama.net/event/18
 9791 
DTSTART:20260501T073000Z
DTEND:20260501T083000Z
GEO:+40.640063;+22.944419
LOCATION:Θεσσαλονίκη\, \nΚαμαρα
SUMMARY:Αναρχική Πρωτομαγιά | Αναρχική Πολιτική Οργάνωση Ο.Σ.
URL:https://www.kinimatorama.net/event/189791
END:VEVENT
END:VCALENDAR
