BEGIN:VCALENDAR
VERSION:2.0
PRODID:-//demosphere.net//NONSGML kigkonsult.se iCalcreator 2.22.1//
METHOD:REQUEST
X-WR-TIMEZONE:Europe/Athens
BEGIN:VEVENT
UID:https://www.kinimatorama.net/event/189798
DTSTAMP:20260426T160000Z
DESCRIPTION:περισσότερες πληροφορίες: https://www.kinimatorama.net/event/18
 9798 
DTSTART:20260426T160000Z
DTEND:20260426T170000Z
GEO:+38.006046;+23.82764
LOCATION:Αγ.Παρασκευή\, \nπλατεία Αγίου Ιωάννη (πάνω πλατεία) \nΕλβετίας & 
 Αγίου Ιωάννου
SUMMARY:Ανοιχτή Συνέλευση Πρωτοβουλίας κατοίκων στα Β/Α ενάντια στην επιτήρ
 ηση
URL:https://www.kinimatorama.net/event/189798
END:VEVENT
END:VCALENDAR
