BEGIN:VCALENDAR
VERSION:2.0
PRODID:-//demosphere.net//NONSGML kigkonsult.se iCalcreator 2.22.1//
METHOD:REQUEST
X-WR-TIMEZONE:Europe/Athens
BEGIN:VEVENT
UID:https://www.kinimatorama.net/event/189799
DTSTAMP:20260424T060000Z
DESCRIPTION:περισσότερες πληροφορίες: https://www.kinimatorama.net/event/18
 9799 
DTSTART:20260424T060000Z
DTEND:20260424T070000Z
GEO:+37.989249;+23.752314
LOCATION:Αθήνα\, \nΕφετείο Αθηνών\, 4ος όροφος\, αίθουσα Δ100Β
SUMMARY:ΔΙΚΗ ΤΩΝ ΣΥΛΛΗΦΘΕΝΤΩΝ/ΙΣΣΩΝ ΤΗΣ ΠΟΡΕΙΑΣ ΑΛΛΗΛΕΓΓΥΗΣ ΣΤΟΥΣ Δ. Χ. ΚΑΙ
  Β.Σ\,
URL:https://www.kinimatorama.net/event/189799
END:VEVENT
END:VCALENDAR
