BEGIN:VCALENDAR
VERSION:2.0
PRODID:-//demosphere.net//NONSGML kigkonsult.se iCalcreator 2.22.1//
METHOD:REQUEST
X-WR-TIMEZONE:Europe/Athens
BEGIN:VEVENT
UID:https://www.kinimatorama.net/event/189800
DTSTAMP:20260429T163000Z
DESCRIPTION:περισσότερες πληροφορίες: https://www.kinimatorama.net/event/18
 9800 
DTSTART:20260429T163000Z
DTEND:20260429T173000Z
GEO:+39.67164;+20.852984
LOCATION:Ιωάννινα\, \nκατάληψη Αντιβίωση \nΠαπανδρέου 2 & Μπελογιάννη \n(πα
 λιό νοσοκομείο Χατζηκώστα)
SUMMARY:κατάληψη Αντιβίωση: τελική συνέλευση απολογισμού διαχειριστικής συν
 έλευσης
URL:https://www.kinimatorama.net/event/189800
END:VEVENT
END:VCALENDAR
