BEGIN:VCALENDAR
VERSION:2.0
PRODID:-//demosphere.net//NONSGML kigkonsult.se iCalcreator 2.22.1//
METHOD:REQUEST
X-WR-TIMEZONE:Europe/Athens
BEGIN:VEVENT
UID:https://www.kinimatorama.net/event/189801
DTSTAMP:20260506T160000Z
DESCRIPTION:περισσότερες πληροφορίες: https://www.kinimatorama.net/event/18
 9801 
DTSTART:20260506T160000Z
DTEND:20260506T170000Z
GEO:+40.634578;+22.951302
LOCATION:Θεσσαλονίκη\, \nInfolibre \nΑυτοδιαχειριζόμενος χώρος για την ανεξ
 άρτητη ενημέρωση και επικοινωνία \nΥπουργού Φιλίππου Δραγούμη 4 \n(περιοχή
  Ροτόντας)
SUMMARY:Ανοιχτή Συνέλευση Αλληλεγγύης για τα Προσφυγικά
URL:https://www.kinimatorama.net/event/189801
END:VEVENT
END:VCALENDAR
