BEGIN:VCALENDAR
VERSION:2.0
PRODID:-//demosphere.net//NONSGML kigkonsult.se iCalcreator 2.22.1//
METHOD:REQUEST
X-WR-TIMEZONE:Europe/Athens
BEGIN:VEVENT
UID:https://www.kinimatorama.net/event/189805
DTSTAMP:20260424T190000Z
DESCRIPTION:περισσότερες πληροφορίες: https://www.kinimatorama.net/event/18
 9805 
DTSTART:20260424T190000Z
DTEND:20260424T200000Z
GEO:+35.341459;+25.132416
LOCATION:Ηράκλειο\, \nΚατάληψη Ευαγγελισμού \nΘεοτοκοπούλου 18
SUMMARY:Αυτοδιαχειριζόμενο καφενείο/bar για την οικονομική ενίσχυση της Κατ
 άληψης
URL:https://www.kinimatorama.net/event/189805
END:VEVENT
END:VCALENDAR
