BEGIN:VCALENDAR
VERSION:2.0
PRODID:-//demosphere.net//NONSGML kigkonsult.se iCalcreator 2.22.1//
METHOD:REQUEST
X-WR-TIMEZONE:Europe/Athens
BEGIN:VEVENT
UID:https://www.kinimatorama.net/event/189807
DTSTAMP:20260428T070000Z
DESCRIPTION:περισσότερες πληροφορίες: https://www.kinimatorama.net/event/18
 9807 
DTSTART:20260428T070000Z
DTEND:20260428T080000Z
GEO:+40.627634;+22.949744
LOCATION:Θεσσαλονίκη\, \nΕπιθεώρηση εργασίας (Μητροπόλεως 110)
SUMMARY:Συγκέντρωση αλληλεγγύης στις 2 συναδελφισσες στην επιθεώρηση εργασί
 ας
URL:https://www.kinimatorama.net/event/189807
END:VEVENT
END:VCALENDAR
