BEGIN:VCALENDAR
VERSION:2.0
PRODID:-//demosphere.net//NONSGML kigkonsult.se iCalcreator 2.22.1//
METHOD:REQUEST
X-WR-TIMEZONE:Europe/Athens
BEGIN:VEVENT
UID:https://www.kinimatorama.net/event/189811
DTSTAMP:20260611T003300Z
DESCRIPTION:περισσότερες πληροφορίες: https://www.kinimatorama.net/event/18
 9811 
DTSTART;VALUE=DATE:20260611
GEO:+40.622345;+22.932059
LOCATION:Θεσσαλονίκη\, \nάγνωστη τοποθεσία (Θεσσαλονίκη)
SUMMARY:3ημερο αλληλεγγύης στις/ους φυλακισμένες/ους αγωνίστριες/τες
URL:https://www.kinimatorama.net/event/189811
END:VEVENT
END:VCALENDAR
