BEGIN:VCALENDAR
VERSION:2.0
PRODID:-//demosphere.net//NONSGML kigkonsult.se iCalcreator 2.22.1//
METHOD:REQUEST
X-WR-TIMEZONE:Europe/Athens
BEGIN:VEVENT
UID:https://www.kinimatorama.net/event/189814
DTSTAMP:20260428T073000Z
DESCRIPTION:περισσότερες πληροφορίες: https://www.kinimatorama.net/event/18
 9814 
DTSTART:20260428T073000Z
DTEND:20260428T083000Z
GEO:+37.995376;+23.743086
LOCATION:Αθήνα\, \nΔικαστήρια Ευελπίδων
SUMMARY:Κάλεσμα στα δικαστήρια σε αλληλεγγύη με τη Δ.
URL:https://www.kinimatorama.net/event/189814
END:VEVENT
END:VCALENDAR
