BEGIN:VCALENDAR
VERSION:2.0
PRODID:-//demosphere.net//NONSGML kigkonsult.se iCalcreator 2.22.1//
METHOD:REQUEST
X-WR-TIMEZONE:Europe/Athens
BEGIN:VEVENT
UID:https://www.kinimatorama.net/event/189815
DTSTAMP:20260428T150000Z
DESCRIPTION:περισσότερες πληροφορίες: https://www.kinimatorama.net/event/18
 9815 
DTSTART:20260428T150000Z
DTEND:20260428T160000Z
GEO:+37.980807;+23.735876
LOCATION:Αθήνα\, \nΝομική \nΣόλωνος και Μασσαλίας \n(ΜΕΤΡΟ Πανεπιστήμιο)
SUMMARY:Περί μπογιάς και καθαρ(ι)ότητας | ταινιάκι / κείμενο / μικροφωνική
URL:https://www.kinimatorama.net/event/189815
END:VEVENT
END:VCALENDAR
