BEGIN:VCALENDAR
VERSION:2.0
PRODID:-//demosphere.net//NONSGML kigkonsult.se iCalcreator 2.22.1//
METHOD:REQUEST
X-WR-TIMEZONE:Europe/Athens
BEGIN:VEVENT
UID:https://www.kinimatorama.net/event/189818
DTSTAMP:20260423T180000Z
DESCRIPTION:περισσότερες πληροφορίες: https://www.kinimatorama.net/event/18
 9818 
DTSTART:20260423T180000Z
DTEND:20260423T190000Z
GEO:+37.972291;+23.767385
LOCATION:Ζωγράφου\, \nΜπερντές \nΑυτοδιαχειριζόμενος κοινωνικός χώρος \nΑρά
 δου 55\, πλ. Κύπρου \nΆνω Ιλίσια \n(Λεωφορεία 220\,221 - στάση: 6η Ιλισίων
 )
SUMMARY:Προβολή ταινίας 'The Cremator' (1980) του Juraj Herz
URL:https://www.kinimatorama.net/event/189818
END:VEVENT
END:VCALENDAR
