BEGIN:VCALENDAR
VERSION:2.0
PRODID:-//demosphere.net//NONSGML kigkonsult.se iCalcreator 2.22.1//
METHOD:REQUEST
X-WR-TIMEZONE:Europe/Athens
BEGIN:VEVENT
UID:https://www.kinimatorama.net/event/189820
DTSTAMP:20260427T160000Z
DESCRIPTION:περισσότερες πληροφορίες: https://www.kinimatorama.net/event/18
 9820 
DTSTART:20260427T160000Z
DTEND:20260427T170000Z
GEO:+40.631087;+22.962975
LOCATION:Θεσσαλονίκη\, \nΑναρχικό Στέκι Ναδίρ \nΒ' Φοιτητικές Εστίες Θεσσαλ
 ονίκης \nείσοδος από Τέλλογλου
SUMMARY:Εκδηλωση - βιβλιοπαρουσιαση Το άρωμα της φωτιάς
URL:https://www.kinimatorama.net/event/189820
END:VEVENT
END:VCALENDAR
