BEGIN:VCALENDAR
VERSION:2.0
PRODID:-//demosphere.net//NONSGML kigkonsult.se iCalcreator 2.22.1//
METHOD:REQUEST
X-WR-TIMEZONE:Europe/Athens
BEGIN:VEVENT
UID:https://www.kinimatorama.net/event/189822
DTSTAMP:20260530T150000Z
DESCRIPTION:περισσότερες πληροφορίες: https://www.kinimatorama.net/event/18
 9822 
DTSTART:20260530T150000Z
DTEND:20260530T160000Z
GEO:+38.021036;+23.757079
LOCATION:Γαλάτσι\, \nΠάρκο Ηνιόχου \nΛεωφόρος Βεΐκου και Ηνιόχου
SUMMARY:Αυτοοργανωμένη Συναυλία
URL:https://www.kinimatorama.net/event/189822
END:VEVENT
END:VCALENDAR
