BEGIN:VCALENDAR
VERSION:2.0
PRODID:-//demosphere.net//NONSGML kigkonsult.se iCalcreator 2.22.1//
METHOD:REQUEST
X-WR-TIMEZONE:Europe/Athens
BEGIN:VEVENT
UID:https://www.kinimatorama.net/event/189829
DTSTAMP:20260511T060000Z
DESCRIPTION:περισσότερες πληροφορίες: https://www.kinimatorama.net/event/18
 9829 
DTSTART:20260511T060000Z
DTEND:20260511T070000Z
GEO:+40.639466;+22.932503
LOCATION:Θεσσαλονίκη\, \nΔικαστήρια Θεσσαλονίκης
SUMMARY:Συγκέντρωση Αλληλεγγύης για υπόθεση έμφυλης βίας & σεξουαλικής κακο
 ποίησης
URL:https://www.kinimatorama.net/event/189829
END:VEVENT
END:VCALENDAR
