BEGIN:VCALENDAR
VERSION:2.0
PRODID:-//demosphere.net//NONSGML kigkonsult.se iCalcreator 2.22.1//
METHOD:REQUEST
X-WR-TIMEZONE:Europe/Athens
BEGIN:VEVENT
UID:https://www.kinimatorama.net/event/189831
DTSTAMP:20260424T090000Z
DESCRIPTION:περισσότερες πληροφορίες: https://www.kinimatorama.net/event/18
 9831 
DTSTART:20260424T090000Z
DTEND:20260424T100000Z
GEO:+40.630565;+22.956319
LOCATION:Θεσσαλονίκη\, \nΠρυτανεία ΑΠΘ
SUMMARY:Παρέμβαση για τον Νέο Εσωτερικό Κανονισμό των Εστιών
URL:https://www.kinimatorama.net/event/189831
END:VEVENT
END:VCALENDAR
