BEGIN:VCALENDAR
VERSION:2.0
PRODID:-//demosphere.net//NONSGML kigkonsult.se iCalcreator 2.22.1//
METHOD:REQUEST
X-WR-TIMEZONE:Europe/Athens
BEGIN:VEVENT
UID:https://www.kinimatorama.net/event/189835
DTSTAMP:20260427T170000Z
DESCRIPTION:περισσότερες πληροφορίες: https://www.kinimatorama.net/event/18
 9835 
DTSTART:20260427T170000Z
DTEND:20260427T180000Z
GEO:+37.950665;+23.719232
LOCATION:Νέα Σμύρνη\, \nΕργατική Λέσχη Νέας Σμύρνης \nΕλ. Βενιζέλου 12 & Αι
 γαίου \nΤραμ (στάση ΑΙΓΑΙΟΥ) \nΛεωφορείο 136 (στάση 3η ΑΙΓΑΙΟΥ)
SUMMARY:Πλώρη για την Γάζα κόντρα στους καιρούς
URL:https://www.kinimatorama.net/event/189835
END:VEVENT
END:VCALENDAR
