BEGIN:VCALENDAR
VERSION:2.0
PRODID:-//demosphere.net//NONSGML kigkonsult.se iCalcreator 2.22.1//
METHOD:REQUEST
X-WR-TIMEZONE:Europe/Athens
BEGIN:VEVENT
UID:https://www.kinimatorama.net/event/189845
DTSTAMP:20260424T170000Z
DESCRIPTION:περισσότερες πληροφορίες: https://www.kinimatorama.net/event/18
 9845 
DTSTART:20260424T170000Z
DTEND:20260424T180000Z
GEO:+40.640383;+22.951035
LOCATION:Θεσσαλονίκη\, \nΚοινωνικό Κέντρο '9 Μάη' \nΝαυπάκτου 3\, Άνω πόλη
SUMMARY:Μπαρ Αφιέρωμα στο ελληνικό Ροκ
URL:https://www.kinimatorama.net/event/189845
END:VEVENT
END:VCALENDAR
