BEGIN:VCALENDAR
VERSION:2.0
PRODID:-//demosphere.net//NONSGML kigkonsult.se iCalcreator 2.22.1//
METHOD:REQUEST
X-WR-TIMEZONE:Europe/Athens
BEGIN:VEVENT
UID:https://www.kinimatorama.net/event/189847
DTSTAMP:20260429T163000Z
DESCRIPTION:περισσότερες πληροφορίες: https://www.kinimatorama.net/event/18
 9847 
DTSTART:20260429T163000Z
DTEND:20260429T173000Z
GEO:+37.977573;+23.730646
LOCATION:Αθήνα\, \nΚτήριο TRISE \nΚολοκοτρώνη 31
SUMMARY:CinéTRISÉ: Born in Flames (1983)
URL:https://www.kinimatorama.net/event/189847
END:VEVENT
END:VCALENDAR
