BEGIN:VCALENDAR
VERSION:2.0
PRODID:-//demosphere.net//NONSGML kigkonsult.se iCalcreator 2.22.1//
METHOD:REQUEST
X-WR-TIMEZONE:Europe/Athens
BEGIN:VEVENT
UID:https://www.kinimatorama.net/event/189850
DTSTAMP:20260425T180000Z
DESCRIPTION:περισσότερες πληροφορίες: https://www.kinimatorama.net/event/18
 9850 
DTSTART:20260425T180000Z
DTEND:20260425T190000Z
GEO:+40.638553;+22.940938
LOCATION:Θεσσαλονίκη\, \nΣτέκι Νεολαίας Σφεντόνα \nΣυγγρού 24\, 2ος όροφος 
 \nπεριοχή Βαλαωρίτου
SUMMARY:Γλέντι-Ρεμπέτικα και λαϊκά με το Λαϊκόχορδο
URL:https://www.kinimatorama.net/event/189850
END:VEVENT
END:VCALENDAR
