BEGIN:VCALENDAR
VERSION:2.0
PRODID:-//demosphere.net//NONSGML kigkonsult.se iCalcreator 2.22.1//
METHOD:REQUEST
X-WR-TIMEZONE:Europe/Athens
BEGIN:VEVENT
UID:https://www.kinimatorama.net/event/189857
DTSTAMP:20260516T150000Z
DESCRIPTION:περισσότερες πληροφορίες: https://www.kinimatorama.net/event/18
 9857 
DTSTART:20260516T150000Z
DTEND:20260516T160000Z
GEO:+40.6391;+22.940668
LOCATION:Θεσσαλονίκη\, \nΚοινωνικό Κέντρο Ovradera \nΕπισκόπου Αμβροσίου 14
  \nπεριοχή Αντιγονιδών
SUMMARY:Fleshtival (Round 2) - Οι ταινίες zombie και το κοινωνικό-πολιτικό 
 τους υπόβαθρο
URL:https://www.kinimatorama.net/event/189857
END:VEVENT
END:VCALENDAR
