BEGIN:VCALENDAR
VERSION:2.0
PRODID:-//demosphere.net//NONSGML kigkonsult.se iCalcreator 2.22.1//
METHOD:REQUEST
X-WR-TIMEZONE:Europe/Athens
BEGIN:VEVENT
UID:https://www.kinimatorama.net/event/189866
DTSTAMP:20260528T160000Z
DESCRIPTION:περισσότερες πληροφορίες: https://www.kinimatorama.net/event/18
 9866 
DTSTART:20260528T160000Z
DTEND:20260528T170000Z
GEO:+38.248304;+21.738623
LOCATION:Πάτρα\, \nΚατάληψη Παραρτήματος \n(Παράρτημα) \nΚορίνθου και Αράτο
 υ
SUMMARY:Άνοιγμα Πίστας Αναρρίχησης Παραρτήματος
URL:https://www.kinimatorama.net/event/189866
END:VEVENT
END:VCALENDAR
