BEGIN:VCALENDAR
VERSION:2.0
PRODID:-//demosphere.net//NONSGML kigkonsult.se iCalcreator 2.22.1//
METHOD:REQUEST
X-WR-TIMEZONE:Europe/Athens
BEGIN:VEVENT
UID:https://www.kinimatorama.net/event/189868
DTSTAMP:20260429T173000Z
DESCRIPTION:περισσότερες πληροφορίες: https://www.kinimatorama.net/event/18
 9868 
DTSTART:20260429T173000Z
DTEND:20260429T183000Z
GEO:+40.653653;+22.939807
LOCATION:Θεσσαλονίκη\, \nΣτέκι ΑΠΑΝ - Λαϊκής Βιβλιοθήκης \nΜουδανιών 18 \nΝ
 εάπολη
SUMMARY:Προβολή ταινίας: Y tu Mamá También
URL:https://www.kinimatorama.net/event/189868
END:VEVENT
END:VCALENDAR
