BEGIN:VCALENDAR
VERSION:2.0
PRODID:-//demosphere.net//NONSGML kigkonsult.se iCalcreator 2.22.1//
METHOD:REQUEST
X-WR-TIMEZONE:Europe/Athens
BEGIN:VEVENT
UID:https://www.kinimatorama.net/event/189869
DTSTAMP:20260424T090000Z
DESCRIPTION:περισσότερες πληροφορίες: https://www.kinimatorama.net/event/18
 9869 
DTSTART:20260424T090000Z
DTEND:20260424T100000Z
GEO:+37.969017;+23.780422
LOCATION:Ζωγράφου\, \nΑναρχικό Στέκι Φιλοσοφικής \nαίθουσα 819\, 8ος όροφος
  \nΠανεπιστημιούπολη Ζωγράφου
SUMMARY:Πολιτικό άνοιγμα-λειτουργία του Αναρχικού Στεκιού Φιλοσοφικής
URL:https://www.kinimatorama.net/event/189869
END:VEVENT
END:VCALENDAR
