BEGIN:VCALENDAR
VERSION:2.0
PRODID:-//demosphere.net//NONSGML kigkonsult.se iCalcreator 2.22.1//
METHOD:REQUEST
X-WR-TIMEZONE:Europe/Athens
BEGIN:VEVENT
UID:https://www.kinimatorama.net/event/189873
DTSTAMP:20260429T053000Z
DESCRIPTION:περισσότερες πληροφορίες: https://www.kinimatorama.net/event/18
 9873 
DTSTART:20260429T053000Z
DTEND:20260429T063000Z
GEO:+37.981006;+23.758591
LOCATION:Αθήνα\, \nΠΔΕ Αττικής \nΞενίας 24 \n(κοντά στον σταθμό μετρό Μέγαρ
 ο Μουσικής)
SUMMARY:Απεργιακή συγκέντρωση
URL:https://www.kinimatorama.net/event/189873
END:VEVENT
END:VCALENDAR
