BEGIN:VCALENDAR
VERSION:2.0
PRODID:-//demosphere.net//NONSGML kigkonsult.se iCalcreator 2.22.1//
METHOD:REQUEST
X-WR-TIMEZONE:Europe/Athens
BEGIN:VEVENT
UID:https://www.kinimatorama.net/event/189881
DTSTAMP:20260427T050000Z
DESCRIPTION:περισσότερες πληροφορίες: https://www.kinimatorama.net/event/18
 9881 
DTSTART:20260427T050000Z
DTEND:20260427T060000Z
GEO:+37.995376;+23.743086
LOCATION:Αθήνα\, \nΔικαστήρια Ευελπίδων
SUMMARY:Call of support with our palestinian comrade/Κάλεσμα υποστήριξης με
  παλαιστινιο σύντροφο
URL:https://www.kinimatorama.net/event/189881
END:VEVENT
END:VCALENDAR
