BEGIN:VCALENDAR
VERSION:2.0
PRODID:-//demosphere.net//NONSGML kigkonsult.se iCalcreator 2.22.1//
METHOD:REQUEST
X-WR-TIMEZONE:Europe/Athens
BEGIN:VEVENT
UID:https://www.kinimatorama.net/event/189887
DTSTAMP:20260424T180000Z
DESCRIPTION:περισσότερες πληροφορίες: https://www.kinimatorama.net/event/18
 9887 
DTSTART:20260424T180000Z
DTEND:20260424T190000Z
GEO:+41.143005;+24.889714
LOCATION:Ξάνθη\, \nΑυτόνομο Στέκι Ξάνθης \nΠρώην κτίριο Ηλεκτρολόγων \nΠροκ
 άτ Πολυτεχνικής
SUMMARY:Fem Rap Bar
URL:https://www.kinimatorama.net/event/189887
END:VEVENT
END:VCALENDAR
