BEGIN:VCALENDAR
VERSION:2.0
PRODID:-//demosphere.net//NONSGML kigkonsult.se iCalcreator 2.22.1//
METHOD:REQUEST
X-WR-TIMEZONE:Europe/Athens
BEGIN:VEVENT
UID:https://www.kinimatorama.net/event/189890
DTSTAMP:20260425T170000Z
DESCRIPTION:περισσότερες πληροφορίες: https://www.kinimatorama.net/event/18
 9890 
DTSTART:20260425T170000Z
DTEND:20260425T180000Z
GEO:+40.640383;+22.951035
LOCATION:Θεσσαλονίκη\, \nΝαυπάκτου 3 \nΚοινωνικό Κέντρο «9 Μάη»
SUMMARY:Hip-Hop Μπαρ οικονομικής ενίσχυσης στο Κοινωνικό Κέντρο «9 Μάη»
URL:https://www.kinimatorama.net/event/189890
END:VEVENT
END:VCALENDAR
