BEGIN:VCALENDAR
VERSION:2.0
PRODID:-//demosphere.net//NONSGML kigkonsult.se iCalcreator 2.22.1//
METHOD:REQUEST
X-WR-TIMEZONE:Europe/Athens
BEGIN:VEVENT
UID:https://www.kinimatorama.net/event/189893
DTSTAMP:20260427T113000Z
DESCRIPTION:περισσότερες πληροφορίες: https://www.kinimatorama.net/event/18
 9893 
DTSTART:20260427T113000Z
DTEND:20260427T123000Z
GEO:+38.008692;+23.665168
LOCATION:Αθήνα\, \nΣτρατηγού Καραϊσκάκη 138 & Παύλου Μελά\, Χαϊδάρι
SUMMARY:ΕΚΤΑΚΤΟ - ΚΑΛΕΣΜΑ ΣΤΟ ΠΕΡΙΦΕΡΕΙΑΚΟ ΣΥΜΒΟΥΛΙΟ ΔΕΥΤΕΡΑ 27/4\, 15:00\,
  ΧΑΪΔΑΡΙ
URL:https://www.kinimatorama.net/event/189893
END:VEVENT
END:VCALENDAR
