BEGIN:VCALENDAR
VERSION:2.0
PRODID:-//demosphere.net//NONSGML kigkonsult.se iCalcreator 2.22.1//
METHOD:REQUEST
X-WR-TIMEZONE:Europe/Athens
BEGIN:VEVENT
UID:https://www.kinimatorama.net/event/189895
DTSTAMP:20260426T130000Z
DESCRIPTION:περισσότερες πληροφορίες: https://www.kinimatorama.net/event/18
 9895 
DTSTART:20260426T130000Z
DTEND:20260426T140000Z
GEO:+37.982824;+23.719686
LOCATION:Αθήνα\, \nΠλατεία Αυδή \nΛεωνιδίου & Γιατράκου \nΜεταξουργείο \n(Μ
 ΕΤΡΟ Μεταξουργείο\, \nΛεωφορεία 025\,026\,027\,813\,Α15\,Β15\,Β16\,Γ16)
SUMMARY:Αυτοοργανωμένο FLINTA Dyke March
URL:https://www.kinimatorama.net/event/189895
END:VEVENT
END:VCALENDAR
