BEGIN:VCALENDAR
VERSION:2.0
PRODID:-//demosphere.net//NONSGML kigkonsult.se iCalcreator 2.22.1//
METHOD:REQUEST
X-WR-TIMEZONE:Europe/Athens
BEGIN:VEVENT
UID:https://www.kinimatorama.net/event/189902
DTSTAMP:20260425T100000Z
DESCRIPTION:περισσότερες πληροφορίες: https://www.kinimatorama.net/event/18
 9902 
DTSTART:20260425T100000Z
DTEND:20260425T110000Z
GEO:+37.96877;+23.72962
LOCATION:Αθήνα\, \nΜετρό Ακρόπολη
SUMMARY:Κάλεσμα στήριξης στην πορεία αλληλεγγύης στους/στις καταληψίες του 
 Κουκακίου
URL:https://www.kinimatorama.net/event/189902
END:VEVENT
END:VCALENDAR
