BEGIN:VCALENDAR
VERSION:2.0
PRODID:-//demosphere.net//NONSGML kigkonsult.se iCalcreator 2.22.1//
METHOD:REQUEST
X-WR-TIMEZONE:Europe/Athens
BEGIN:VEVENT
UID:https://www.kinimatorama.net/event/189905
DTSTAMP:20260426T130000Z
DESCRIPTION:περισσότερες πληροφορίες: https://www.kinimatorama.net/event/18
 9905 
DTSTART:20260426T130000Z
DTEND:20260426T140000Z
GEO:+38.248304;+21.738623
LOCATION:Πάτρα\, \nΚατάληψη Παραρτήματος \n(Παράρτημα) \nΚορίνθου και Αράτο
 υ
SUMMARY:Συνέλευση εν όψει της επετείου του Stonewall
URL:https://www.kinimatorama.net/event/189905
END:VEVENT
END:VCALENDAR
