BEGIN:VCALENDAR
VERSION:2.0
PRODID:-//demosphere.net//NONSGML kigkonsult.se iCalcreator 2.22.1//
METHOD:REQUEST
X-WR-TIMEZONE:Europe/Athens
BEGIN:VEVENT
UID:https://www.kinimatorama.net/event/189907
DTSTAMP:20260428T173000Z
DESCRIPTION:περισσότερες πληροφορίες: https://www.kinimatorama.net/event/18
 9907 
DTSTART:20260428T173000Z
DTEND:20260428T183000Z
GEO:+35.517819;+24.019203
LOCATION:Χανιά\, \nΚατάληψη Rosa Nera \nΛόφος Καστέλι\, Παλιό λιμάνι
SUMMARY:Εργαστήριο Παιχνιδιών Ποίησης
URL:https://www.kinimatorama.net/event/189907
END:VEVENT
END:VCALENDAR
