BEGIN:VCALENDAR
VERSION:2.0
PRODID:-//demosphere.net//NONSGML kigkonsult.se iCalcreator 2.22.1//
METHOD:REQUEST
X-WR-TIMEZONE:Europe/Athens
BEGIN:VEVENT
UID:https://www.kinimatorama.net/event/189908
DTSTAMP:20260426T113000Z
DESCRIPTION:περισσότερες πληροφορίες: https://www.kinimatorama.net/event/18
 9908 
DTSTART:20260426T113000Z
DTEND:20260426T123000Z
GEO:+37.980722;+23.649101
LOCATION:Κορυδαλλός\, \nΦυλακές Κορυδαλλού
SUMMARY:Συγκέντρωση αλληλεγγύης με τις αναρχικές συντρόφισσες Μ.Μ. και Δ.Ζ.
URL:https://www.kinimatorama.net/event/189908
END:VEVENT
END:VCALENDAR
