BEGIN:VCALENDAR
VERSION:2.0
PRODID:-//demosphere.net//NONSGML kigkonsult.se iCalcreator 2.22.1//
METHOD:REQUEST
X-WR-TIMEZONE:Europe/Athens
BEGIN:VEVENT
UID:https://www.kinimatorama.net/event/189914
DTSTAMP:20260429T180000Z
DESCRIPTION:περισσότερες πληροφορίες: https://www.kinimatorama.net/event/18
 9914 
DTSTART:20260429T180000Z
DTEND:20260429T190000Z
GEO:+40.633351;+22.950812
LOCATION:Θεσσαλονίκη\, \nΕλευθεριακό Κέντρο No Pasarán \nΙασωνίδου 4 & Αρρι
 ανού
SUMMARY:Bar οικονομικής ενίσχυσης του Ελευθεριακού κέντρου “No pasaran” με 
 Dj kouvas
URL:https://www.kinimatorama.net/event/189914
END:VEVENT
END:VCALENDAR
