BEGIN:VCALENDAR
VERSION:2.0
PRODID:-//demosphere.net//NONSGML kigkonsult.se iCalcreator 2.22.1//
METHOD:REQUEST
X-WR-TIMEZONE:Europe/Athens
BEGIN:VEVENT
UID:https://www.kinimatorama.net/event/189915
DTSTAMP:20260425T190000Z
DESCRIPTION:περισσότερες πληροφορίες: https://www.kinimatorama.net/event/18
 9915 
DTSTART:20260425T190000Z
DTEND:20260425T200000Z
GEO:+40.845949;+25.874133
LOCATION:Αλεξ/πολη\, \nΑναγνωστήριο Ιατρικής \nΙ.Καβύρη 6
SUMMARY:Drag Party
URL:https://www.kinimatorama.net/event/189915
END:VEVENT
END:VCALENDAR
