BEGIN:VCALENDAR
VERSION:2.0
PRODID:-//demosphere.net//NONSGML kigkonsult.se iCalcreator 2.22.1//
METHOD:REQUEST
X-WR-TIMEZONE:Europe/Athens
BEGIN:VEVENT
UID:https://www.kinimatorama.net/event/189916
DTSTAMP:20260426T070000Z
DESCRIPTION:περισσότερες πληροφορίες: https://www.kinimatorama.net/event/18
 9916 
DTSTART:20260426T070000Z
DTEND:20260426T080000Z
GEO:+40.845949;+25.874133
LOCATION:Αλεξ/πολη\, \nΑναγνωστήριο Ιατρικής \nΙ.Καβύρη 6
SUMMARY:Μαγείρεμα συλλογικής κουζίνας Αλεξανδρούπολης
URL:https://www.kinimatorama.net/event/189916
END:VEVENT
END:VCALENDAR
